BEGIN:VCALENDAR
METHOD:PUBLISH
PRODID:-//doubleknot.com//CalenderEvent MIMEDIR//EN
VERSION:2.0
BEGIN:VEVENT
UID:3140760-20260503T180000Z-20260503T190000Z@doubleknot.com
CREATED:20260312T163906Z
LAST-MODIFIED:20260416T143320Z
DTSTAMP:20260425T115426Z
DTSTART:20260503T180000Z
DTEND:20260503T190000Z
LOCATION:Blank Park Zoo, 7401 SW 9th St, Des Moines, IA 50315, US
CATEGORIES:All Ages, DM Metro Region, Girl Experience
DESCRIPTION: \n Join us for an inspiring afternoon as we celebrate the incredible achievements of our 2026 Gold Award Girl Scouts at the Blank Park Zoo in Des Moines!  \n  \n  \n  \n  \n The Gold Award is the highest honor in Girl Scouting, recognizing girls who have demonstrated extraordinary leadership, acted on issues they care about, and made a lasting impact in their communities. This special ceremony is dedicated to honoring the Girl Scouts who have earned their Gold Award this year.  \n  \n  \n  \n  \n During the ceremony, each Gold Award Girl Scout will be formally recognized and presented with her official Gold Award pin and certificate in front of family, friends, troop members, and volunteers. It&rsquo;s a moment to celebrate years of dedication, service, and leadership.  \n  \n  \n  \n  \n Tickets &amp; Admission  \n  \n  \n  \n  \n  \n 	 \n 	Gold Award Girl Scouts receive free admission for themselves and two guests.  \n  \n 	 \n  \n  \n  \n  \n  \n 	 \n 	Additional guests may attend for $10 per person.  \n  \n 	 \n  \n  \n  \n  \n  \n 	 \n 	All tickets include admission to the zoo, so guests are welcome to explore and enjoy Blank Park Zoo as part of the celebration.  \n  \n 	 \n 	 \n 	  \n  \n 	 \n  \n  \n  \n  \n Registration Information  \n  \n  \n  \n  \n The registration link will be sent directly to each Gold Award Girl Scout and her parent/guardian. They may then share the link with family and friends to invite them to be part of this special celebration.  \n  \n  \n  \n  \n Due to space and capacity limits, we are prioritizing tickets for Gold Award Girl Scouts and their invited guests. If space allows, tickets will be opened to additional Girl Scouts at a later date.  \n  \n  \n  \n  \n 🎉 Continue the Celebration!  \n  \n  \n  \n  \n Those who would like to celebrate our Gold Award Girl Scouts are also invited to attend the Sisterhood Social, a celebration of Girl Scout achievements. This is an open-house style reception following the ceremony.  \n  \n  \n  \n  \n The Sisterhood Social will honor our Gold Award recipients while also recognizing our Bronze and Silver Award Girl Scouts and celebrating our graduating seniors. Together, we will highlight and celebrate the many accomplishments and achievements of Girl Scouts throughout the year.  \n  \n  \n  \n  \n Please see the event listing for more details about the social and how to register.  \n  \n  \n  \n  \n We look forward to celebrating this remarkable milestone with you!  \n  \n 
SUMMARY:The Gold Award Ceremony 2026
PRIORITY:5
BEGIN:VALARM
TRIGGER:PT15M
ACTION:DISPLAY
DESCRIPTION:Reminder
PRIORITY:5
END:VALARM
END:VEVENT
END:VCALENDAR
